BEGIN:VCALENDAR
VERSION:2.0
PRODID:-//Torrington Historical Society - ECPv6.15.20//NONSGML v1.0//EN
CALSCALE:GREGORIAN
METHOD:PUBLISH
X-ORIGINAL-URL:https://torringtonhistoricalsociety.org
X-WR-CALDESC:Events for Torrington Historical Society
REFRESH-INTERVAL;VALUE=DURATION:PT1H
X-Robots-Tag:noindex
X-PUBLISHED-TTL:PT1H
BEGIN:VTIMEZONE
TZID:UTC
BEGIN:STANDARD
TZOFFSETFROM:+0000
TZOFFSETTO:+0000
TZNAME:UTC
DTSTART:20230101T000000
END:STANDARD
END:VTIMEZONE
BEGIN:VEVENT
DTSTART;TZID=UTC:20240509T190000
DTEND;TZID=UTC:20240509T210000
DTSTAMP:20260423T080737
CREATED:20240430T184855Z
LAST-MODIFIED:20240430T184855Z
UID:10000439-1715281200-1715288400@torringtonhistoricalsociety.org
SUMMARY:John Brown Birthday Celebration
DESCRIPTION:Join us to celebrate John Brown’s birthday and his trail blazing commitment to racial equality and civil rights. The Torrington Historical Society and the Workman Memorial AME Zion Church will co-host a birthday celebration for John Brown on Thursday May 9th at the AME Zion Church 60 Brightwood Avenue with speakers\, African drumming\, birthday cake\, coffee and socializing. Hope to see you there. \n 
URL:https://torringtonhistoricalsociety.org/event/john-brown-birthday-celebration-2
LOCATION:Connecticut
END:VEVENT
END:VCALENDAR