BEGIN:VCALENDAR
VERSION:2.0
PRODID:-//Torrington Historical Society - ECPv6.15.20//NONSGML v1.0//EN
CALSCALE:GREGORIAN
METHOD:PUBLISH
X-WR-CALNAME:Torrington Historical Society
X-ORIGINAL-URL:https://torringtonhistoricalsociety.org
X-WR-CALDESC:Events for Torrington Historical Society
REFRESH-INTERVAL;VALUE=DURATION:PT1H
X-Robots-Tag:noindex
X-PUBLISHED-TTL:PT1H
BEGIN:VTIMEZONE
TZID:UTC
BEGIN:STANDARD
TZOFFSETFROM:+0000
TZOFFSETTO:+0000
TZNAME:UTC
DTSTART:20230101T000000
END:STANDARD
END:VTIMEZONE
BEGIN:VEVENT
DTSTART;TZID=UTC:20240925T183000
DTEND;TZID=UTC:20240925T193000
DTSTAMP:20260422T221009
CREATED:20240319T155456Z
LAST-MODIFIED:20240412T235511Z
UID:10000436-1727289000-1727292600@torringtonhistoricalsociety.org
SUMMARY:The Energy of Falling Water - Connecticut's Early Mills
DESCRIPTION:The Energy of Falling Water – Connecticut’s Early Mills \nWater-powered mills brought civilization to Connecticut as early as 1650. In the early days\, every small Connecticut village had to depend upon itself for almost every necessity. There was no electricity\, steam power had not been invented and water-powered mills were the answer. \nCommunities often started around a sawmill or a gristmill. More factories whose machines were powered by water or other mills making hats\, buttons\, clocks\, cider\, plaster or iron works would follow. Connecticut water powered mills and factories expanded to serve a world market in the mid-1800s. Access to appropriate river sites wasn’t taken lightly and was one of the reasons Mark Twain said\, Whiskey is for drinking; water is for fighting over. \nJoin us for an interesting view into Connecticut’s many of the water-powered mills that helped create the great state of Connecticut. \n  \nSpeaker Bio: John Cilio   \nJohn Cilio is a historical storyteller\, author and researcher who has brought historical stories back to life for over 15 years. He is a member of the Organization of American Historians and the Association for the Study of Connecticut History. He has numerous articles printed in national magazines and newspapers and has published eight historical books. John hails from a career in corporate marketing and has spoken to large and small audiences in over 60 countries around the world. He lives in Sherman\, Connecticut. \nThe Event is sponsored by the Torrington Savings Bank. It is free\, but registration is requested through Eventbrite using the link below. \nCT’s Early Mill \n  \n 
URL:https://torringtonhistoricalsociety.org/event/the-energy-of-falling-water-connecticuts-early-mills
LOCATION:Torrington Historical Society\, 192 Main Street\, Torrington\, CT\, 06790
END:VEVENT
END:VCALENDAR