BEGIN:VCALENDAR
VERSION:2.0
PRODID:-//Torrington Historical Society - ECPv6.15.20//NONSGML v1.0//EN
CALSCALE:GREGORIAN
METHOD:PUBLISH
X-ORIGINAL-URL:https://torringtonhistoricalsociety.org
X-WR-CALDESC:Events for Torrington Historical Society
REFRESH-INTERVAL;VALUE=DURATION:PT1H
X-Robots-Tag:noindex
X-PUBLISHED-TTL:PT1H
BEGIN:VTIMEZONE
TZID:UTC
BEGIN:STANDARD
TZOFFSETFROM:+0000
TZOFFSETTO:+0000
TZNAME:UTC
DTSTART:20240101T000000
END:STANDARD
END:VTIMEZONE
BEGIN:VEVENT
DTSTART;TZID=UTC:20250521T183000
DTEND;TZID=UTC:20250521T193000
DTSTAMP:20260422T071122
CREATED:20250213T170019Z
LAST-MODIFIED:20250305T150635Z
UID:10000497-1747852200-1747855800@torringtonhistoricalsociety.org
SUMMARY:Frederick Douglass: From Slave to Statesman with Professor Bryan Sinche\, UHART
DESCRIPTION:Frederick Douglass\, From Slave to Statesman – Professor Bryan Sinche\, University of Hartford \nFrederick Douglass was a writer\, an editor\, an activist\, a government minister\, and the de facto spokesman for nineteenth-century Black America. In this lecture\, Bryan Sinche will highlight Douglass’s achievements as a pre-Civil War author and abolitionist\, explain his importance as a Civil Rights leader in the postwar period\, and reflect on Douglass’s enduring legacy. \nBryan Sinche is Professor and Chair of English and Modern Languages at the University of Hartford. He is a scholar of nineteenth-century African American literature and\, most recently\, the author of Published by the Author: Self-Publication and Nineteenth-Century African American Literature\, which was published by the University of North Carolina Press and was a finalist for the 2024 Book Prize presented by the Association for the Study of African American Life and History. \nTo Register: \nFrederick Douglass \nThis event is generously sponsored by Thomaston Savings Bank. \n \n 
URL:https://torringtonhistoricalsociety.org/event/frederick-douglass-from-slave-to-statesman-with-professor-bryan-sinche-uhart
LOCATION:Torrington Historical Society\, 192 Main Street\, Torrington\, CT\, 06790
END:VEVENT
END:VCALENDAR