BEGIN:VCALENDAR
VERSION:2.0
PRODID:-//Torrington Historical Society - ECPv6.15.20//NONSGML v1.0//EN
CALSCALE:GREGORIAN
METHOD:PUBLISH
X-WR-CALNAME:Torrington Historical Society
X-ORIGINAL-URL:https://torringtonhistoricalsociety.org
X-WR-CALDESC:Events for Torrington Historical Society
REFRESH-INTERVAL;VALUE=DURATION:PT1H
X-Robots-Tag:noindex
X-PUBLISHED-TTL:PT1H
BEGIN:VTIMEZONE
TZID:UTC
BEGIN:STANDARD
TZOFFSETFROM:+0000
TZOFFSETTO:+0000
TZNAME:UTC
DTSTART:20240101T000000
END:STANDARD
END:VTIMEZONE
BEGIN:VEVENT
DTSTART;TZID=UTC:20251105T183000
DTEND;TZID=UTC:20251105T193000
DTSTAMP:20260421T172005
CREATED:20251009T153213Z
LAST-MODIFIED:20251009T162028Z
UID:10000504-1762367400-1762371000@torringtonhistoricalsociety.org
SUMMARY:Liberty and the American Experience with Professor Hamish Lutris
DESCRIPTION:Liberty and the American Experience\, “Liberty means responsibility. That is why most men dread it.” with Professor Hamish Lutris \nThe history of the United States is bound up with the meaning of liberty as it has evolved and changed at different times in our nation’s history. It has also been the subject of constant controversy and debate\, at times heated\, at times deadly. This presentation will center on the nature of American liberty and how it has transformed since 1776. The nature of enumerated and implied rights as interpreted by the judicial system will provide a backdrop for examining some of the most famous controversies over liberty in the nation’s history. \nLutris is an Associate Professor of History at Manchester Community College\, and a member of the Winchester Historic Commission. He is a well-known speaker throughout the region with long experience in historical interpretation. He holds numerous programs celebrating our nation’s history and people across a broad range of topics\, including Native American history\, the US Civil War\, World Wars I and II\, the American West\, as well as Scientific\, Social and cultural history. \nTo register\, use the link below: \nLiberty Program
URL:https://torringtonhistoricalsociety.org/event/2102
LOCATION:Torrington Historical Society\, 192 Main Street\, Torrington\, CT\, 06790
END:VEVENT
END:VCALENDAR