BEGIN:VCALENDAR
VERSION:2.0
PRODID:-//Torrington Historical Society - ECPv6.15.20//NONSGML v1.0//EN
CALSCALE:GREGORIAN
METHOD:PUBLISH
X-ORIGINAL-URL:https://torringtonhistoricalsociety.org
X-WR-CALDESC:Events for Torrington Historical Society
REFRESH-INTERVAL;VALUE=DURATION:PT1H
X-Robots-Tag:noindex
X-PUBLISHED-TTL:PT1H
BEGIN:VTIMEZONE
TZID:UTC
BEGIN:STANDARD
TZOFFSETFROM:+0000
TZOFFSETTO:+0000
TZNAME:UTC
DTSTART:20250101T000000
END:STANDARD
END:VTIMEZONE
BEGIN:VEVENT
DTSTART;TZID=UTC:20260225T183000
DTEND;TZID=UTC:20260225T193000
DTSTAMP:20260421T102515
CREATED:20260203T151914Z
LAST-MODIFIED:20260204T161117Z
UID:10000589-1772044200-1772047800@torringtonhistoricalsociety.org
SUMMARY:The Art of American Independence: Beyond the Declaration with Robin Hoffman and Jodi Stiffelman of ArtScapades
DESCRIPTION:Torrington Historical Society welcomes ArtScapades for a lecture that you can watch in your own home via ZOOM during these cold February days! \nArtScapades will present paintings that depict America as it fought to break from British rule and create an independent country. This lecture looks at how artists depicted the events that led up to the Revolution\, the Battles that raged during the conflict\, the creation and signing of a Declaration of Independence and images that reflect the early days of a new country. \nThis lecture includes works by John Trumbull\, Charles Willson Peale\, Gilbert Stuart\, John Singleton Copley\, Emanuel Leutze\, Grant Wood\, Jacob Lawrence\, and others as well as a painting from the Torrington Historical Society’s collection by Torrington artist Charles Besozzi. \nRobin Hoffman and Jodi Stiffelman\, of ArtScapades\, began teaching art appreciation in 1998. They have presented at libraries\, art centers\, and museums in Connecticut\, New York\, New Jersey\, Massachusetts and Florida.
URL:https://torringtonhistoricalsociety.org/event/the-art-of-american-independence-beyond-the-declaration
LOCATION:https://torringtonhistoricalsociety.org/event/the-art-of-american-independence-beyond-the-declaration
END:VEVENT
END:VCALENDAR