BEGIN:VCALENDAR
VERSION:2.0
PRODID:-//Torrington Historical Society - ECPv6.15.20//NONSGML v1.0//EN
CALSCALE:GREGORIAN
METHOD:PUBLISH
X-ORIGINAL-URL:https://torringtonhistoricalsociety.org
X-WR-CALDESC:Events for Torrington Historical Society
REFRESH-INTERVAL;VALUE=DURATION:PT1H
X-Robots-Tag:noindex
X-PUBLISHED-TTL:PT1H
BEGIN:VTIMEZONE
TZID:UTC
BEGIN:STANDARD
TZOFFSETFROM:+0000
TZOFFSETTO:+0000
TZNAME:UTC
DTSTART:20240101T000000
END:STANDARD
END:VTIMEZONE
BEGIN:VEVENT
DTSTART;TZID=UTC:20250226T183000
DTEND;TZID=UTC:20250226T193000
DTSTAMP:20260422T120240
CREATED:20250212T205610Z
LAST-MODIFIED:20250212T205610Z
UID:10000495-1740594600-1740598200@torringtonhistoricalsociety.org
SUMMARY:Connecticut's Stone Walls with Professor Mitch Wagener\, WCSU
DESCRIPTION:Connecticut’s Stone Walls with Professor Mitch Wagener\, WCSU \nIn our corner of Connecticut\, it is almost impossible to walk through the surrounding forests and fields or drive along the many winding country roads without coming across a historic stone wall. We might romanticize their existence and envision the farmers that perhaps cleared their fields and marked boundaries with them\, but have you ever wondered just where those rocks came from? Professor Mitch Wagener from Western Connecticut State University will share the story of how these stone fences came to be as rounded stones\, eroded from mountains of the north\, were carried by ice sheets to what is now Connecticut and then left behind as the ice melted\, eventually becaming covered by soil and only much later became an annoyance to farmers who stacked them up at the edges of their property. Although the farmers are largely gone\, the stone fences remain. Come hear their story. \nTickets available on Eventbrite \nConnecticut’s Stone Walls \n 
URL:https://torringtonhistoricalsociety.org/event/connecticuts-stone-walls-with-professor-mitch-wagener-wcsu
LOCATION:Torrington Historical Society\, 192 Main Street\, Torrington\, CT\, 06790
END:VEVENT
END:VCALENDAR