BEGIN:VCALENDAR
VERSION:2.0
PRODID:-//Torrington Historical Society - ECPv6.15.20//NONSGML v1.0//EN
CALSCALE:GREGORIAN
METHOD:PUBLISH
X-ORIGINAL-URL:https://torringtonhistoricalsociety.org
X-WR-CALDESC:Events for Torrington Historical Society
REFRESH-INTERVAL;VALUE=DURATION:PT1H
X-Robots-Tag:noindex
X-PUBLISHED-TTL:PT1H
BEGIN:VTIMEZONE
TZID:UTC
BEGIN:STANDARD
TZOFFSETFROM:+0000
TZOFFSETTO:+0000
TZNAME:UTC
DTSTART:20220101T000000
END:STANDARD
END:VTIMEZONE
BEGIN:VEVENT
DTSTART;TZID=UTC:20230509T190000
DTEND;TZID=UTC:20230509T203000
DTSTAMP:20260423T165111
CREATED:20230222T160248Z
LAST-MODIFIED:20230502T143403Z
UID:10000383-1683658800-1683664200@torringtonhistoricalsociety.org
SUMMARY:John Brown Birthday Celebration
DESCRIPTION:Join the Torrington Historical Society to celebrate John Brown’s birthday and his trail blazing commitment to racial equality and civil rights. The program will begin with African Drumming by Angaza Mwando and an invocation by Rev. Kevin Johnson of the AME Zion Church. Mark McEachern\, Executive Director of the Torrington Historical Society\, will provide some historical perspective and the men’s choral group Gaudeamus will sing relevant songs. The program will be followed by birthday cake and coffee in the Trinity Church parish house. This event is sponsored by the Torrington Historical Society in collaboration with Trinity Church. \n 
URL:https://torringtonhistoricalsociety.org/event/john-brown-birthday-celebration
LOCATION:Trinity Episcopal Church\, 220 Prospect St.\, Torrington\, CT\, 06790\, United States
ATTACH;FMTTYPE=image/jpeg:https://torringtonhistoricalsociety.org/wp-content/uploads/2023/02/JB_BDAY_2023_4SocialMedia.jpg
END:VEVENT
END:VCALENDAR