BEGIN:VCALENDAR
VERSION:2.0
PRODID:-//Torrington Historical Society - ECPv6.15.20//NONSGML v1.0//EN
CALSCALE:GREGORIAN
METHOD:PUBLISH
X-WR-CALNAME:Torrington Historical Society
X-ORIGINAL-URL:https://torringtonhistoricalsociety.org
X-WR-CALDESC:Events for Torrington Historical Society
REFRESH-INTERVAL;VALUE=DURATION:PT1H
X-Robots-Tag:noindex
X-PUBLISHED-TTL:PT1H
BEGIN:VTIMEZONE
TZID:UTC
BEGIN:STANDARD
TZOFFSETFROM:+0000
TZOFFSETTO:+0000
TZNAME:UTC
DTSTART:20250101T000000
END:STANDARD
END:VTIMEZONE
BEGIN:VEVENT
DTSTART;TZID=UTC:20260225T183000
DTEND;TZID=UTC:20260225T193000
DTSTAMP:20260422T204245
CREATED:20260203T151914Z
LAST-MODIFIED:20260204T161117Z
UID:10000589-1772044200-1772047800@torringtonhistoricalsociety.org
SUMMARY:The Art of American Independence: Beyond the Declaration with Robin Hoffman and Jodi Stiffelman of ArtScapades
DESCRIPTION:Torrington Historical Society welcomes ArtScapades for a lecture that you can watch in your own home via ZOOM during these cold February days! \nArtScapades will present paintings that depict America as it fought to break from British rule and create an independent country. This lecture looks at how artists depicted the events that led up to the Revolution\, the Battles that raged during the conflict\, the creation and signing of a Declaration of Independence and images that reflect the early days of a new country. \nThis lecture includes works by John Trumbull\, Charles Willson Peale\, Gilbert Stuart\, John Singleton Copley\, Emanuel Leutze\, Grant Wood\, Jacob Lawrence\, and others as well as a painting from the Torrington Historical Society’s collection by Torrington artist Charles Besozzi. \nRobin Hoffman and Jodi Stiffelman\, of ArtScapades\, began teaching art appreciation in 1998. They have presented at libraries\, art centers\, and museums in Connecticut\, New York\, New Jersey\, Massachusetts and Florida.
URL:https://torringtonhistoricalsociety.org/event/the-art-of-american-independence-beyond-the-declaration
LOCATION:https://torringtonhistoricalsociety.org/event/the-art-of-american-independence-beyond-the-declaration
END:VEVENT
BEGIN:VEVENT
DTSTART;TZID=UTC:20260312T183000
DTEND;TZID=UTC:20260312T193000
DTSTAMP:20260422T204245
CREATED:20260204T160353Z
LAST-MODIFIED:20260204T160353Z
UID:10000590-1773340200-1773343800@torringtonhistoricalsociety.org
SUMMARY:Liberty's Gender\, Women\, Popular Culture & The American Revolution with Professor Leslie Lindenauer\, WCSU
DESCRIPTION:Presented by Professor Leslie Lindenauer\, WCSU \nDetails and link to program coming soon!
URL:https://torringtonhistoricalsociety.org/event/libertys-gender-women-popular-culture-the-american-revolution-with-professor-leslie-lindenauer-wcsu
LOCATION:Torrington Historical Society\, 192 Main Street\, Torrington\, CT\, 06790
END:VEVENT
BEGIN:VEVENT
DTSTART;TZID=UTC:20260418T140000
DTEND;TZID=UTC:20260418T160000
DTSTAMP:20260422T204245
CREATED:20260313T171849Z
LAST-MODIFIED:20260313T171849Z
UID:10000591-1776520800-1776528000@torringtonhistoricalsociety.org
SUMMARY:Grandmother Moon\, Author Reading with Wunneanatsu Lamb-Cason
DESCRIPTION:Wunneanatsu Lamb-Cason will read from her new book “Grandmother Moon” and share examples of traditional stories. She will also discuss the importance of oral tradition in Indigenous communities and her process of bringing these stories into written form. Books will be available for purchase and can be signed by the author. \nVersion 1.0.0\nWunneanatsu Lamb-Cason is an award winning educator\, traditional storyteller\, author and advocate whose work centers on truth-telling\, representation and equity in education. A former high school history teacher\, she was named the 2024 National History Teacher of the Year by the Gilder Lehman Institute of American History – the first Indigenous educator to receive this honor. She now serves as the Assistant Director of Native American and Indigenous Studies at Brown University. Wunneanatsu’s grandmother\, beloved indigenous educator Trudie Lamb Richmond\, lived on Schaghticoke lands along the Housatonic River in northwestern Litchfield County.
URL:https://torringtonhistoricalsociety.org/event/grandmother-moon-author-reading-with-wunneanatsu-lamb-cason
LOCATION:Torrington Historical Society\, 192 Main Street\, Torrington\, CT\, 06790
END:VEVENT
BEGIN:VEVENT
DTSTART;TZID=UTC:20260429T183000
DTEND;TZID=UTC:20260429T193000
DTSTAMP:20260422T204245
CREATED:20260313T174223Z
LAST-MODIFIED:20260313T174223Z
UID:10000592-1777487400-1777491000@torringtonhistoricalsociety.org
SUMMARY:Reconnected: Restoring the Rivers of Long Island Sound
DESCRIPTION:In Connecticut alone\, there are more than 5\,000 dams\, most no longer serving their original purpose. Many of these structures disconnect access for fish and wildlife to up and downstream habitat for breeding\, feeding\, and nursery grounds. They can also disrupt water flows and trap natural sediments that Connecticut’s remaining coastal marshes – already hemmed in by development – desperately need to keep pace with sea-level rise. And as precipitation patterns change and storms become more intense\, the risk of failure in aging or inadequately sized dams increases. Removing dams will help reconnect and create more climate resilient river systems\, unblock critical habitats\, and reduce risk to communities. \nEmily Hadzopulos is the Freshwater Restoration Project Manager for The Nature Conservancy in Connecticut\, working alongside partner groups like the Long Island Sound River Restoration Network to advance collaborative stream connectivity and restoration projects across Connecticut. \nAimee Petras is the Executive Director for the Farmington River Watershed Association\, a non-profit working in Connecticut and Massachusetts to protect and restore the Farmington River and its Watershed through research\, education\, and advocacy.  The FRWA team is actively working on barrier removals across the Farmington River Watershed to improve connectivity within the watershed and to Long Island Sound.
URL:https://torringtonhistoricalsociety.org/event/reconnected-restoring-the-rivers-of-long-island-sound
LOCATION:Torrington Historical Society\, 192 Main Street\, Torrington\, CT\, 06790
END:VEVENT
BEGIN:VEVENT
DTSTART;TZID=UTC:20260509T150000
DTEND;TZID=UTC:20260509T170000
DTSTAMP:20260422T204245
CREATED:20260422T134711Z
LAST-MODIFIED:20260422T134711Z
UID:10000594-1778338800-1778346000@torringtonhistoricalsociety.org
SUMMARY:Folksinger Reggie Harris to Perform in Honor of John Brown's Birthday
DESCRIPTION:Acclaimed folksinger Reggie Harris is is a musician\, storyteller and educator\, deeply rooted in the power of song and story. Known for his interest in the Underground Railroad and modern Civil Rights Movements\, he is a celebrated song leader and advocate for social change. His music blends acoustic folk\, African American Spirituals\, gospel and social justice activism. Harris is the winner of the 2021 Spirts of Folk award from Folk Alliance International and the W.E.B. Dubois Legacy Award. He has been affiliated with the John F. Kennedy Center’s Partner’s in Education program for over two decades. Performing at arts centers\, universities and schools\, Reggie is also in demand at music and story festivals throughout the U.S.\, Canada\, and Europe. Website: https://reggieharrismusic.com/
URL:https://torringtonhistoricalsociety.org/event/folksinger-reggie-harris-to-perform-in-honor-of-john-browns-birthday
LOCATION:Five Points Art Center\, University Drive\, Torrington\, Connecticut
END:VEVENT
BEGIN:VEVENT
DTSTART;TZID=UTC:20260513T183000
DTEND;TZID=UTC:20260513T193000
DTSTAMP:20260422T204245
CREATED:20260313T174535Z
LAST-MODIFIED:20260313T174535Z
UID:10000593-1778697000-1778700600@torringtonhistoricalsociety.org
SUMMARY:The Ride: Paul Revere and the Night That Saved America with author Kostya Kennedy
DESCRIPTION:On April 18\, 1775\, a Boston-based silversmith\, engraver\, and anti-British political operative named Paul Revere set out on a borrowed horse to fulfill a dangerous but crucial mission: to alert American colonists of advancing British troops. \nRevere was not the only rider that night\, and indeed\, he had completed at least 18 previous rides across New England and other colonies\, disseminating intelligence about British movements. But this ride was like no other\, and its consequences in the months and years to come—as the American Revolution morphed from isolated skirmishes to a full-fledged war—became one of our founding legends. \n\nIn this presentation Kennedy will discuss his book in which he presents a dramatic new narrative of the events of April 18 and 19\, 1775\, informed by fresh primary and secondary sources researched in archives\, family letters and diaries\, contemporary accounts\, and more. Kennedy reveals Revere’s ride to be more complex than it is usually portrayed—a loosely coordinated series of rides by numerous men\, near-disaster\, capture by British forces\, and finally success. \nKostya Kennedy is the Editor in Chief of Premium Publishing at Dotdash Meredith\, overseeing special editions under People\, LIFE\, EatingWell\, Real Simple\, Health\, TIME and others. He was former assistant managing editor and senior writer at Sports Illustrated\, staff writer at Newsday and has written for numerous outlets including The New York Times\, Time\, and The New Yorker. \nAlong with The Ride\, Kennedy has written True: The Four Seasons of Jackie Robinson and the NYT’s bestsellers 56: Joe DiMaggio and the Last Magic Number in Sports\, and Pete Rose: An American Dilemma. His television work includes appearances as a contributing analyst and commentator on the MLB network\, as well as appearances on Late Night with Seth Meyers and Morning Joe. He has an M.S. from Columbia University’s Graduate School of Journalism\, from which he received a Pulitzer Fellowship and an undergraduate degree in Philosophy from Stony Brook University.
URL:https://torringtonhistoricalsociety.org/event/the-ride-paul-revere-and-the-night-that-saved-america-with-author-kostya-kennedy
LOCATION:Torrington Historical Society\, 192 Main Street\, Torrington\, CT\, 06790
END:VEVENT
END:VCALENDAR