BEGIN:VCALENDAR
VERSION:2.0
PRODID:-//Torrington Historical Society - ECPv6.15.20//NONSGML v1.0//EN
CALSCALE:GREGORIAN
METHOD:PUBLISH
X-WR-CALNAME:Torrington Historical Society
X-ORIGINAL-URL:https://torringtonhistoricalsociety.org
X-WR-CALDESC:Events for Torrington Historical Society
REFRESH-INTERVAL;VALUE=DURATION:PT1H
X-Robots-Tag:noindex
X-PUBLISHED-TTL:PT1H
BEGIN:VTIMEZONE
TZID:UTC
BEGIN:STANDARD
TZOFFSETFROM:+0000
TZOFFSETTO:+0000
TZNAME:UTC
DTSTART:20230101T000000
END:STANDARD
END:VTIMEZONE
BEGIN:VEVENT
DTSTART;TZID=UTC:20240411T080000
DTEND;TZID=UTC:20240411T170000
DTSTAMP:20260423T230041
CREATED:20240411T195650Z
LAST-MODIFIED:20240412T235908Z
UID:10000438-1712822400-1712854800@torringtonhistoricalsociety.org
SUMMARY:Little Known Hiking Ruins of Southern New England with Nick Bellantoni
DESCRIPTION:Have you ever walked in the woods and come across a pile of rocks\, a set of stairs seemingly going nowhere or some other interesting archeological ruin and wonder – Why is it out here? What was this? What was it used for? And who built this? Archeological ruins have mysteries\, and Former State Archeologist Nick Bellantoni tries to unravel many of these mysteries in his new book Hiking Ruins of Southern New England\, co-authored with Dr. Barbara Ann Kiefer. Nick will be joining us on Tuesday\, May 7th at 6:30 pm to share a number of stories from his book and dispel some of the mystery surrounding these sites that are found in the woods all around us and share info on the trails where they are located. Books will be for sale after the event. \nThe event is sponsored by Torrington Savings Bank and is free\, but registration is required through the Eventbrite link below. \nBellantoni Program \n  \n \n 
URL:https://torringtonhistoricalsociety.org/event/little-known-hiking-ruins-of-southern-new-england-with-nick-bellantoni
LOCATION:Connecticut
END:VEVENT
END:VCALENDAR