BEGIN:VCALENDAR
VERSION:2.0
PRODID:-//Torrington Historical Society - ECPv6.15.20//NONSGML v1.0//EN
CALSCALE:GREGORIAN
METHOD:PUBLISH
X-WR-CALNAME:Torrington Historical Society
X-ORIGINAL-URL:https://torringtonhistoricalsociety.org
X-WR-CALDESC:Events for Torrington Historical Society
REFRESH-INTERVAL;VALUE=DURATION:PT1H
X-Robots-Tag:noindex
X-PUBLISHED-TTL:PT1H
BEGIN:VTIMEZONE
TZID:UTC
BEGIN:STANDARD
TZOFFSETFROM:+0000
TZOFFSETTO:+0000
TZNAME:UTC
DTSTART:20230101T000000
END:STANDARD
END:VTIMEZONE
BEGIN:VEVENT
DTSTART;TZID=UTC:20240831T180000
DTEND;TZID=UTC:20240831T193000
DTSTAMP:20260422T221001
CREATED:20240723T140841Z
LAST-MODIFIED:20240813T194254Z
UID:10000446-1725127200-1725132600@torringtonhistoricalsociety.org
SUMMARY:Nelson Bello and Friends Latin Jazz Quintet
DESCRIPTION:Esteemed percussionist and bandleader Nelson Bello and Friends will end the 2024 Jazz in the Garden Series with an evening of Latin Jazz! \nBello began playing Latin percussion at the age of 8 and traveled to Cuba when he was 15 to perform at the Havana International Jazz Festival as part of “Latin Flavor” (known today as “Insight”). He studied at the Greater Hartford Academy of the Arts\, The Hartford Conservatory and with Jackie McLean at The Artist Collective. He has worked with such notables as Cheo Feliciano\, Ismael Miranda\, Tony Vega\, Charles Flores\, Andy Gonzalez\, Curtis Brothers among others. Along with trombonist Hommy Ramos he co-founded “TROMBEATZ” and released their debut album “A Caribbean Thing”. Beyond his musical ability he is known for his energy on and off the stage and his passion for the arts and education. Joining Nelson will be Benny Valasquez on bass\, Alex Pastrana on piano\, Marco Torres on drums and a trombonist to be announced. \n  \nTickets are available on Eventbrite using the link below: \nNelson Bello and Friends Tickets
URL:https://torringtonhistoricalsociety.org/event/nelson-bellos-latin-jazz-ensemble
LOCATION:Torrington Historical Society\, 192 Main Street\, Torrington\, CT\, 06790
END:VEVENT
END:VCALENDAR