BEGIN:VCALENDAR
VERSION:2.0
PRODID:-//Torrington Historical Society - ECPv6.15.20//NONSGML v1.0//EN
CALSCALE:GREGORIAN
METHOD:PUBLISH
X-WR-CALNAME:Torrington Historical Society
X-ORIGINAL-URL:https://torringtonhistoricalsociety.org
X-WR-CALDESC:Events for Torrington Historical Society
REFRESH-INTERVAL;VALUE=DURATION:PT1H
X-Robots-Tag:noindex
X-PUBLISHED-TTL:PT1H
BEGIN:VTIMEZONE
TZID:UTC
BEGIN:STANDARD
TZOFFSETFROM:+0000
TZOFFSETTO:+0000
TZNAME:UTC
DTSTART:20230101T000000
END:STANDARD
END:VTIMEZONE
BEGIN:VEVENT
DTSTART;TZID=UTC:20241005T100000
DTEND;TZID=UTC:20241005T110000
DTSTAMP:20260422T221010
CREATED:20240928T010647Z
LAST-MODIFIED:20240928T010647Z
UID:10000447-1728122400-1728126000@torringtonhistoricalsociety.org
SUMMARY:A Walk Along Migeon Avenue
DESCRIPTION:Join us as we tour Migeon Avenue\, which has been described over the years as the “grandest street in Torrington”. We’ll explore it’s rich past\, including the many families that called Migeon Avenue home\, from factory workers\, small business owners and wealthy industrialists; the assorted architectural styles and unique features that grace both elaborate mansions and modest worker housing and also hear the stories of those who lived and worked here\, all of which will bring the street to life and illustrate how this impressive avenue evolved with Torrington’s development during the 1800’s and early 1900’s. \nWe’ll meet at the intersection of Pearl and Migeon promptly at 10 am and walk to Pulaski Street and return to our starting point\, covering both sides of the street. Our focus is primarily in the 1800’s to early 1900’s due to time constraints. Please note that the sidewalk is uneven in some places\, so please wear appropriate footwear.
URL:https://torringtonhistoricalsociety.org/event/a-walk-along-migeon-avenue
LOCATION:Torrington Historical Society\, 192 Main Street\, Torrington\, CT\, 06790
END:VEVENT
END:VCALENDAR