BEGIN:VCALENDAR
VERSION:2.0
PRODID:-//Torrington Historical Society - ECPv6.15.20//NONSGML v1.0//EN
CALSCALE:GREGORIAN
METHOD:PUBLISH
X-WR-CALNAME:Torrington Historical Society
X-ORIGINAL-URL:https://torringtonhistoricalsociety.org
X-WR-CALDESC:Events for Torrington Historical Society
REFRESH-INTERVAL;VALUE=DURATION:PT1H
X-Robots-Tag:noindex
X-PUBLISHED-TTL:PT1H
BEGIN:VTIMEZONE
TZID:UTC
BEGIN:STANDARD
TZOFFSETFROM:+0000
TZOFFSETTO:+0000
TZNAME:UTC
DTSTART:20230101T000000
END:STANDARD
END:VTIMEZONE
BEGIN:VEVENT
DTSTART;TZID=UTC:20241106T183000
DTEND;TZID=UTC:20241106T193000
DTSTAMP:20260422T221019
CREATED:20240412T235200Z
LAST-MODIFIED:20240424T233127Z
UID:10000435-1730917800-1730921400@torringtonhistoricalsociety.org
SUMMARY:Animal Mascots of the Civil War with Professor Hamish Lutris
DESCRIPTION:The Civil War was fought by citizen armies that often had their own\, very un-military\, ways of fighting. One thing they did was to bring or adopt animals of many kinds. This talk will focus on those much-loved unit mascots. The idea of using animals to represent military units throughout history will be discussed\, as well as the particular animals honored in Civil War lore and memorialization. The audience should learn something of the more personal side of a war that is often examined only in terms of casualties and logistics. \nHamas Lutris is an Associate Professor of History\, Political Science and Geography at Capital Community College in Hartford. He is a well known speaker and instructor throughout Connecticut and the region with long experience in Central Europe\, having been involved in education\, strategic planning and international agricultural research cooperation programs there. He has also worked in some of America’s premier natural and historical sites and has led naturalist and educational programs in both the U.S. and Europe. His program interests cover a number of areas including Native American history\, the U.S. Civil War\, World Wars I and II\, the American West\, as well as Scientific\, Social and Cultural history. \nThis event is sponsored by the Torrington Savings Bank. It is free but registration is requested through Eventbrite using the link below. \n\nMascots of the Civil War \n 
URL:https://torringtonhistoricalsociety.org/event/animal-mascots-of-the-civil-war-with-professor-hamish-lutris
LOCATION:Torrington Historical Society\, 192 Main Street\, Torrington\, CT\, 06790
END:VEVENT
END:VCALENDAR