BEGIN:VCALENDAR
VERSION:2.0
PRODID:-//Torrington Historical Society - ECPv6.15.20//NONSGML v1.0//EN
CALSCALE:GREGORIAN
METHOD:PUBLISH
X-WR-CALNAME:Torrington Historical Society
X-ORIGINAL-URL:https://torringtonhistoricalsociety.org
X-WR-CALDESC:Events for Torrington Historical Society
REFRESH-INTERVAL;VALUE=DURATION:PT1H
X-Robots-Tag:noindex
X-PUBLISHED-TTL:PT1H
BEGIN:VTIMEZONE
TZID:UTC
BEGIN:STANDARD
TZOFFSETFROM:+0000
TZOFFSETTO:+0000
TZNAME:UTC
DTSTART:20230101T000000
END:STANDARD
END:VTIMEZONE
BEGIN:VEVENT
DTSTART;TZID=UTC:20241218T060000
DTEND;TZID=UTC:20241218T190000
DTSTAMP:20260422T221013
CREATED:20241029T182854Z
LAST-MODIFIED:20241029T185332Z
UID:10000489-1734501600-1734548400@torringtonhistoricalsociety.org
SUMMARY:Evening Holiday Tours at the Hotchkiss Fyler House Museum
DESCRIPTION:Candlelight Holiday tours at the Hotchkiss-Fyler House Museum\nTake a guided tour of one of Connecticut’s notable house museums\, decorated for the Christmas season. Operated by the Torrington Historical Society\, the Hotchkiss-Fyler House Museum\, built in 1900\, features original family furnishings\, impressive woodwork\, painted and stenciled walls\, and collections of fine and decorative arts. During the holiday season the house takes on a special ambiance when it is decorated with Christmas trees\, vintage ornaments\, wreaths\, greenery\, and white lights. Antique toys from the Society’s collection will also be on display and the dining room table will be set for Christmas dinner with linens\, fine china\, silverware and crystal from the Hotchkiss collection. Tours are for the first and second floors of the home. \nEvening Tour Admission:  \n$20 Non Members; $15 for Torrington Historical Society members. \n\nRegister using the following link: \nHoliday Candlelight Tours
URL:https://torringtonhistoricalsociety.org/event/evening-holiday-tours-at-the-hotchkiss-fyler-house-museum/2024-12-18/1
LOCATION:Torrington Historical Society\, 192 Main Street\, Torrington\, CT\, 06790
END:VEVENT
BEGIN:VEVENT
DTSTART;TZID=UTC:20241218T160000
DTEND;TZID=UTC:20241218T170000
DTSTAMP:20260422T221013
CREATED:20241029T182854Z
LAST-MODIFIED:20241029T185332Z
UID:10000490-1734537600-1734541200@torringtonhistoricalsociety.org
SUMMARY:Evening Holiday Tours at the Hotchkiss Fyler House Museum
DESCRIPTION:Candlelight Holiday tours at the Hotchkiss-Fyler House Museum\nTake a guided tour of one of Connecticut’s notable house museums\, decorated for the Christmas season. Operated by the Torrington Historical Society\, the Hotchkiss-Fyler House Museum\, built in 1900\, features original family furnishings\, impressive woodwork\, painted and stenciled walls\, and collections of fine and decorative arts. During the holiday season the house takes on a special ambiance when it is decorated with Christmas trees\, vintage ornaments\, wreaths\, greenery\, and white lights. Antique toys from the Society’s collection will also be on display and the dining room table will be set for Christmas dinner with linens\, fine china\, silverware and crystal from the Hotchkiss collection. Tours are for the first and second floors of the home. \nEvening Tour Admission:  \n$20 Non Members; $15 for Torrington Historical Society members. \n\nRegister using the following link: \nHoliday Candlelight Tours
URL:https://torringtonhistoricalsociety.org/event/evening-holiday-tours-at-the-hotchkiss-fyler-house-museum/2024-12-18/2
LOCATION:Torrington Historical Society\, 192 Main Street\, Torrington\, CT\, 06790
END:VEVENT
BEGIN:VEVENT
DTSTART;TZID=UTC:20241218T170000
DTEND;TZID=UTC:20241218T180000
DTSTAMP:20260422T221013
CREATED:20241029T182854Z
LAST-MODIFIED:20241029T185332Z
UID:10000491-1734541200-1734544800@torringtonhistoricalsociety.org
SUMMARY:Evening Holiday Tours at the Hotchkiss Fyler House Museum
DESCRIPTION:Candlelight Holiday tours at the Hotchkiss-Fyler House Museum\nTake a guided tour of one of Connecticut’s notable house museums\, decorated for the Christmas season. Operated by the Torrington Historical Society\, the Hotchkiss-Fyler House Museum\, built in 1900\, features original family furnishings\, impressive woodwork\, painted and stenciled walls\, and collections of fine and decorative arts. During the holiday season the house takes on a special ambiance when it is decorated with Christmas trees\, vintage ornaments\, wreaths\, greenery\, and white lights. Antique toys from the Society’s collection will also be on display and the dining room table will be set for Christmas dinner with linens\, fine china\, silverware and crystal from the Hotchkiss collection. Tours are for the first and second floors of the home. \nEvening Tour Admission:  \n$20 Non Members; $15 for Torrington Historical Society members. \n\nRegister using the following link: \nHoliday Candlelight Tours
URL:https://torringtonhistoricalsociety.org/event/evening-holiday-tours-at-the-hotchkiss-fyler-house-museum/2024-12-18/3
LOCATION:Torrington Historical Society\, 192 Main Street\, Torrington\, CT\, 06790
END:VEVENT
BEGIN:VEVENT
DTSTART;TZID=UTC:20241219T130000
DTEND;TZID=UTC:20241219T140000
DTSTAMP:20260422T221013
CREATED:20241029T163525Z
LAST-MODIFIED:20241207T135140Z
UID:10000465-1734613200-1734616800@torringtonhistoricalsociety.org
SUMMARY:Daytime Holiday Tours at the Hotchkiss-Fyler House Museum
DESCRIPTION:Daytime Holiday tours at the Hotchkiss-Fyler House Museum\nTake a guided tour of one of Connecticut’s notable house museums\, decorated for the Christmas season. Operated by the Torrington Historical Society\, the Hotchkiss-Fyler House Museum\, built in 1900\, features original family furnishings\, impressive woodwork\, painted and stenciled walls\, and collections of fine and decorative arts. During the holiday season the house takes on a special ambiance when it is decorated with Christmas trees\, vintage ornaments\, wreaths\, greenery\, and white lights. Antique toys from the Society’s collection will also be on display and the dining room table will be set for Christmas dinner with linens\, fine china\, silverware and crystal from the Hotchkiss collection. Tours are for the first and second floors of the home. \nDay time Tours Admission:  \n$15 Non Members; $5 for Torrington Historical Society members. \nChildren 6 and under $5 \nTo Register please use the link below: \nHoliday Daytime Tours \n 
URL:https://torringtonhistoricalsociety.org/event/daytime-holiday-tours-at-the-hotchkiss-fyler-house-museum/2024-12-19/1
LOCATION:Torrington Historical Society\, 192 Main Street\, Torrington\, CT\, 06790
END:VEVENT
BEGIN:VEVENT
DTSTART;TZID=UTC:20241219T140000
DTEND;TZID=UTC:20241219T150000
DTSTAMP:20260422T221013
CREATED:20241029T163525Z
LAST-MODIFIED:20241207T135140Z
UID:10000466-1734616800-1734620400@torringtonhistoricalsociety.org
SUMMARY:Daytime Holiday Tours at the Hotchkiss-Fyler House Museum
DESCRIPTION:Daytime Holiday tours at the Hotchkiss-Fyler House Museum\nTake a guided tour of one of Connecticut’s notable house museums\, decorated for the Christmas season. Operated by the Torrington Historical Society\, the Hotchkiss-Fyler House Museum\, built in 1900\, features original family furnishings\, impressive woodwork\, painted and stenciled walls\, and collections of fine and decorative arts. During the holiday season the house takes on a special ambiance when it is decorated with Christmas trees\, vintage ornaments\, wreaths\, greenery\, and white lights. Antique toys from the Society’s collection will also be on display and the dining room table will be set for Christmas dinner with linens\, fine china\, silverware and crystal from the Hotchkiss collection. Tours are for the first and second floors of the home. \nDay time Tours Admission:  \n$15 Non Members; $5 for Torrington Historical Society members. \nChildren 6 and under $5 \nTo Register please use the link below: \nHoliday Daytime Tours \n 
URL:https://torringtonhistoricalsociety.org/event/daytime-holiday-tours-at-the-hotchkiss-fyler-house-museum/2024-12-19/2
LOCATION:Torrington Historical Society\, 192 Main Street\, Torrington\, CT\, 06790
END:VEVENT
BEGIN:VEVENT
DTSTART;TZID=UTC:20241219T150000
DTEND;TZID=UTC:20241219T160000
DTSTAMP:20260422T221013
CREATED:20241029T163525Z
LAST-MODIFIED:20241207T135140Z
UID:10000467-1734620400-1734624000@torringtonhistoricalsociety.org
SUMMARY:Daytime Holiday Tours at the Hotchkiss-Fyler House Museum
DESCRIPTION:Daytime Holiday tours at the Hotchkiss-Fyler House Museum\nTake a guided tour of one of Connecticut’s notable house museums\, decorated for the Christmas season. Operated by the Torrington Historical Society\, the Hotchkiss-Fyler House Museum\, built in 1900\, features original family furnishings\, impressive woodwork\, painted and stenciled walls\, and collections of fine and decorative arts. During the holiday season the house takes on a special ambiance when it is decorated with Christmas trees\, vintage ornaments\, wreaths\, greenery\, and white lights. Antique toys from the Society’s collection will also be on display and the dining room table will be set for Christmas dinner with linens\, fine china\, silverware and crystal from the Hotchkiss collection. Tours are for the first and second floors of the home. \nDay time Tours Admission:  \n$15 Non Members; $5 for Torrington Historical Society members. \nChildren 6 and under $5 \nTo Register please use the link below: \nHoliday Daytime Tours \n 
URL:https://torringtonhistoricalsociety.org/event/daytime-holiday-tours-at-the-hotchkiss-fyler-house-museum/2024-12-19/3
LOCATION:Torrington Historical Society\, 192 Main Street\, Torrington\, CT\, 06790
END:VEVENT
BEGIN:VEVENT
DTSTART;TZID=UTC:20241220T130000
DTEND;TZID=UTC:20241220T140000
DTSTAMP:20260422T221013
CREATED:20241029T163525Z
LAST-MODIFIED:20241207T135140Z
UID:10000468-1734699600-1734703200@torringtonhistoricalsociety.org
SUMMARY:Daytime Holiday Tours at the Hotchkiss-Fyler House Museum
DESCRIPTION:Daytime Holiday tours at the Hotchkiss-Fyler House Museum\nTake a guided tour of one of Connecticut’s notable house museums\, decorated for the Christmas season. Operated by the Torrington Historical Society\, the Hotchkiss-Fyler House Museum\, built in 1900\, features original family furnishings\, impressive woodwork\, painted and stenciled walls\, and collections of fine and decorative arts. During the holiday season the house takes on a special ambiance when it is decorated with Christmas trees\, vintage ornaments\, wreaths\, greenery\, and white lights. Antique toys from the Society’s collection will also be on display and the dining room table will be set for Christmas dinner with linens\, fine china\, silverware and crystal from the Hotchkiss collection. Tours are for the first and second floors of the home. \nDay time Tours Admission:  \n$15 Non Members; $5 for Torrington Historical Society members. \nChildren 6 and under $5 \nTo Register please use the link below: \nHoliday Daytime Tours \n 
URL:https://torringtonhistoricalsociety.org/event/daytime-holiday-tours-at-the-hotchkiss-fyler-house-museum/2024-12-20/1
LOCATION:Torrington Historical Society\, 192 Main Street\, Torrington\, CT\, 06790
END:VEVENT
BEGIN:VEVENT
DTSTART;TZID=UTC:20241220T140000
DTEND;TZID=UTC:20241220T150000
DTSTAMP:20260422T221013
CREATED:20241029T163525Z
LAST-MODIFIED:20241207T135140Z
UID:10000469-1734703200-1734706800@torringtonhistoricalsociety.org
SUMMARY:Daytime Holiday Tours at the Hotchkiss-Fyler House Museum
DESCRIPTION:Daytime Holiday tours at the Hotchkiss-Fyler House Museum\nTake a guided tour of one of Connecticut’s notable house museums\, decorated for the Christmas season. Operated by the Torrington Historical Society\, the Hotchkiss-Fyler House Museum\, built in 1900\, features original family furnishings\, impressive woodwork\, painted and stenciled walls\, and collections of fine and decorative arts. During the holiday season the house takes on a special ambiance when it is decorated with Christmas trees\, vintage ornaments\, wreaths\, greenery\, and white lights. Antique toys from the Society’s collection will also be on display and the dining room table will be set for Christmas dinner with linens\, fine china\, silverware and crystal from the Hotchkiss collection. Tours are for the first and second floors of the home. \nDay time Tours Admission:  \n$15 Non Members; $5 for Torrington Historical Society members. \nChildren 6 and under $5 \nTo Register please use the link below: \nHoliday Daytime Tours \n 
URL:https://torringtonhistoricalsociety.org/event/daytime-holiday-tours-at-the-hotchkiss-fyler-house-museum/2024-12-20/2
LOCATION:Torrington Historical Society\, 192 Main Street\, Torrington\, CT\, 06790
END:VEVENT
BEGIN:VEVENT
DTSTART;TZID=UTC:20241220T150000
DTEND;TZID=UTC:20241220T160000
DTSTAMP:20260422T221013
CREATED:20241029T163525Z
LAST-MODIFIED:20241207T135140Z
UID:10000470-1734706800-1734710400@torringtonhistoricalsociety.org
SUMMARY:Daytime Holiday Tours at the Hotchkiss-Fyler House Museum
DESCRIPTION:Daytime Holiday tours at the Hotchkiss-Fyler House Museum\nTake a guided tour of one of Connecticut’s notable house museums\, decorated for the Christmas season. Operated by the Torrington Historical Society\, the Hotchkiss-Fyler House Museum\, built in 1900\, features original family furnishings\, impressive woodwork\, painted and stenciled walls\, and collections of fine and decorative arts. During the holiday season the house takes on a special ambiance when it is decorated with Christmas trees\, vintage ornaments\, wreaths\, greenery\, and white lights. Antique toys from the Society’s collection will also be on display and the dining room table will be set for Christmas dinner with linens\, fine china\, silverware and crystal from the Hotchkiss collection. Tours are for the first and second floors of the home. \nDay time Tours Admission:  \n$15 Non Members; $5 for Torrington Historical Society members. \nChildren 6 and under $5 \nTo Register please use the link below: \nHoliday Daytime Tours \n 
URL:https://torringtonhistoricalsociety.org/event/daytime-holiday-tours-at-the-hotchkiss-fyler-house-museum/2024-12-20/3
LOCATION:Torrington Historical Society\, 192 Main Street\, Torrington\, CT\, 06790
END:VEVENT
BEGIN:VEVENT
DTSTART;TZID=UTC:20241221T130000
DTEND;TZID=UTC:20241221T140000
DTSTAMP:20260422T221013
CREATED:20241029T163525Z
LAST-MODIFIED:20241207T135140Z
UID:10000471-1734786000-1734789600@torringtonhistoricalsociety.org
SUMMARY:Daytime Holiday Tours at the Hotchkiss-Fyler House Museum
DESCRIPTION:Daytime Holiday tours at the Hotchkiss-Fyler House Museum\nTake a guided tour of one of Connecticut’s notable house museums\, decorated for the Christmas season. Operated by the Torrington Historical Society\, the Hotchkiss-Fyler House Museum\, built in 1900\, features original family furnishings\, impressive woodwork\, painted and stenciled walls\, and collections of fine and decorative arts. During the holiday season the house takes on a special ambiance when it is decorated with Christmas trees\, vintage ornaments\, wreaths\, greenery\, and white lights. Antique toys from the Society’s collection will also be on display and the dining room table will be set for Christmas dinner with linens\, fine china\, silverware and crystal from the Hotchkiss collection. Tours are for the first and second floors of the home. \nDay time Tours Admission:  \n$15 Non Members; $5 for Torrington Historical Society members. \nChildren 6 and under $5 \nTo Register please use the link below: \nHoliday Daytime Tours \n 
URL:https://torringtonhistoricalsociety.org/event/daytime-holiday-tours-at-the-hotchkiss-fyler-house-museum/2024-12-21/1
LOCATION:Torrington Historical Society\, 192 Main Street\, Torrington\, CT\, 06790
END:VEVENT
BEGIN:VEVENT
DTSTART;TZID=UTC:20241221T140000
DTEND;TZID=UTC:20241221T150000
DTSTAMP:20260422T221013
CREATED:20241029T163525Z
LAST-MODIFIED:20241207T135140Z
UID:10000472-1734789600-1734793200@torringtonhistoricalsociety.org
SUMMARY:Daytime Holiday Tours at the Hotchkiss-Fyler House Museum
DESCRIPTION:Daytime Holiday tours at the Hotchkiss-Fyler House Museum\nTake a guided tour of one of Connecticut’s notable house museums\, decorated for the Christmas season. Operated by the Torrington Historical Society\, the Hotchkiss-Fyler House Museum\, built in 1900\, features original family furnishings\, impressive woodwork\, painted and stenciled walls\, and collections of fine and decorative arts. During the holiday season the house takes on a special ambiance when it is decorated with Christmas trees\, vintage ornaments\, wreaths\, greenery\, and white lights. Antique toys from the Society’s collection will also be on display and the dining room table will be set for Christmas dinner with linens\, fine china\, silverware and crystal from the Hotchkiss collection. Tours are for the first and second floors of the home. \nDay time Tours Admission:  \n$15 Non Members; $5 for Torrington Historical Society members. \nChildren 6 and under $5 \nTo Register please use the link below: \nHoliday Daytime Tours \n 
URL:https://torringtonhistoricalsociety.org/event/daytime-holiday-tours-at-the-hotchkiss-fyler-house-museum/2024-12-21/2
LOCATION:Torrington Historical Society\, 192 Main Street\, Torrington\, CT\, 06790
END:VEVENT
BEGIN:VEVENT
DTSTART;TZID=UTC:20241221T150000
DTEND;TZID=UTC:20241221T160000
DTSTAMP:20260422T221013
CREATED:20241029T163525Z
LAST-MODIFIED:20241207T135140Z
UID:10000473-1734793200-1734796800@torringtonhistoricalsociety.org
SUMMARY:Daytime Holiday Tours at the Hotchkiss-Fyler House Museum
DESCRIPTION:Daytime Holiday tours at the Hotchkiss-Fyler House Museum\nTake a guided tour of one of Connecticut’s notable house museums\, decorated for the Christmas season. Operated by the Torrington Historical Society\, the Hotchkiss-Fyler House Museum\, built in 1900\, features original family furnishings\, impressive woodwork\, painted and stenciled walls\, and collections of fine and decorative arts. During the holiday season the house takes on a special ambiance when it is decorated with Christmas trees\, vintage ornaments\, wreaths\, greenery\, and white lights. Antique toys from the Society’s collection will also be on display and the dining room table will be set for Christmas dinner with linens\, fine china\, silverware and crystal from the Hotchkiss collection. Tours are for the first and second floors of the home. \nDay time Tours Admission:  \n$15 Non Members; $5 for Torrington Historical Society members. \nChildren 6 and under $5 \nTo Register please use the link below: \nHoliday Daytime Tours \n 
URL:https://torringtonhistoricalsociety.org/event/daytime-holiday-tours-at-the-hotchkiss-fyler-house-museum/2024-12-21/3
LOCATION:Torrington Historical Society\, 192 Main Street\, Torrington\, CT\, 06790
END:VEVENT
END:VCALENDAR