BEGIN:VCALENDAR
VERSION:2.0
PRODID:-//Torrington Historical Society - ECPv6.15.20//NONSGML v1.0//EN
CALSCALE:GREGORIAN
METHOD:PUBLISH
X-ORIGINAL-URL:https://torringtonhistoricalsociety.org
X-WR-CALDESC:Events for Torrington Historical Society
REFRESH-INTERVAL;VALUE=DURATION:PT1H
X-Robots-Tag:noindex
X-PUBLISHED-TTL:PT1H
BEGIN:VTIMEZONE
TZID:UTC
BEGIN:STANDARD
TZOFFSETFROM:+0000
TZOFFSETTO:+0000
TZNAME:UTC
DTSTART:20240101T000000
END:STANDARD
END:VTIMEZONE
BEGIN:VEVENT
DTSTART;TZID=UTC:20250614T120000
DTEND;TZID=UTC:20250614T160000
DTSTAMP:20260422T084556
CREATED:20250524T202123Z
LAST-MODIFIED:20250524T202123Z
UID:10000499-1749902400-1749916800@torringtonhistoricalsociety.org
SUMMARY:Connecticut Open House Day - Free Admission
DESCRIPTION:  \nJoin us for Connecticut Open House Day on Saturday June 14th where you will have the opportunity to visit: \n\nThe first floor of the historic Hotchiss Flyer House\nThe Torrington History Museum “No Place Like Home: The History of Torrington\nPursuit of Precision: The Hendey Machine Company\n\nAdmission is free. The Museum is open from 12-4 p.m.
URL:https://torringtonhistoricalsociety.org/event/connecticut-open-house-day-free-admission
LOCATION:CT
END:VEVENT
END:VCALENDAR