BEGIN:VCALENDAR
VERSION:2.0
PRODID:-//Torrington Historical Society - ECPv6.15.20//NONSGML v1.0//EN
CALSCALE:GREGORIAN
METHOD:PUBLISH
X-ORIGINAL-URL:https://torringtonhistoricalsociety.org
X-WR-CALDESC:Events for Torrington Historical Society
REFRESH-INTERVAL;VALUE=DURATION:PT1H
X-Robots-Tag:noindex
X-PUBLISHED-TTL:PT1H
BEGIN:VTIMEZONE
TZID:UTC
BEGIN:STANDARD
TZOFFSETFROM:+0000
TZOFFSETTO:+0000
TZNAME:UTC
DTSTART:20240101T000000
END:STANDARD
END:VTIMEZONE
BEGIN:VEVENT
DTSTART;TZID=UTC:20250808T180000
DTEND;TZID=UTC:20250808T193000
DTSTAMP:20260422T014358
CREATED:20250716T182935Z
LAST-MODIFIED:20250716T190936Z
UID:10000502-1754676000-1754681400@torringtonhistoricalsociety.org
SUMMARY:Ysanne & the Lotus Blues
DESCRIPTION:Ysanne & the Lotus Blues blend jazz and soul with captivating storytelling\, led by jazz vocalist Ysanne. Her soulful performances explore themes of love\, backed by the dynamic Lotus Blues collective. \nRecent highlights include singing the National Anthem at the Hartford Mayor’s Inaugural Ball 2024\, placing 3rd in Hartford’s Got Talent\, May 2023\, and residencies at Hartford venues. The group has performed at the Hartford Foundation Gala\, Hartbeat Music Festival\, Indie Soul Fest\, and community events like DominGo. Ysanne also starred as Billie Holiday in “Lady Day at Emerson’s Bar & Grill” at Seacoast Repertory Theatre. \nTickets available on Eventbrite using the link below: \nYsanne and the Lotus Blues Tickets
URL:https://torringtonhistoricalsociety.org/event/ysanne-the-lotus-blues
LOCATION:CT
END:VEVENT
END:VCALENDAR