BEGIN:VCALENDAR
VERSION:2.0
PRODID:-//Torrington Historical Society - ECPv6.15.20//NONSGML v1.0//EN
CALSCALE:GREGORIAN
METHOD:PUBLISH
X-ORIGINAL-URL:https://torringtonhistoricalsociety.org
X-WR-CALDESC:Events for Torrington Historical Society
REFRESH-INTERVAL;VALUE=DURATION:PT1H
X-Robots-Tag:noindex
X-PUBLISHED-TTL:PT1H
BEGIN:VTIMEZONE
TZID:UTC
BEGIN:STANDARD
TZOFFSETFROM:+0000
TZOFFSETTO:+0000
TZNAME:UTC
DTSTART:20240101T000000
END:STANDARD
END:VTIMEZONE
BEGIN:VEVENT
DTSTART;TZID=UTC:20251101T153000
DTEND;TZID=UTC:20251101T163000
DTSTAMP:20260421T233607
CREATED:20251011T182703Z
LAST-MODIFIED:20251020T004739Z
UID:10000582-1762011000-1762014600@torringtonhistoricalsociety.org
SUMMARY:Historic Center Cemetery Halloween Walking Tours
DESCRIPTION:The popular Historic Center Cemetery Halloween Walking Tour will take place on November 1 with time slots at 3:30\, 4\, 4:30 and 5:00 pm. \nCenter Cemetery is the only remaining burial ground in Downtown Torrington. Tour guides will lead groups through the cemetery by lantern with stops at various graves where actors will share the stories of early Torrington residents. Tours will start at the Torrington Historical Society (meet at the shed on the property near the cemetery gate to the left of the carriage house) and will return to the same spot. Please arrive 5 minutes ahead of time and later tours should bring a flashlight. Parking available behind the Historical Society or on the street. \nProceeds to benefit Torrington Historical Society educational programs. Please note this tour is most suitable for adults. Members $5\, Non Members $10. \nTo register: \nCenter Cemetery Tour \n \n 
URL:https://torringtonhistoricalsociety.org/event/historic-center-cemetery-halloween-walking-tours-2/2025-11-01/1
LOCATION:Torrington Historical Society\, 192 Main Street\, Torrington\, CT\, 06790
END:VEVENT
BEGIN:VEVENT
DTSTART;TZID=UTC:20251101T160000
DTEND;TZID=UTC:20251101T170000
DTSTAMP:20260421T233607
CREATED:20251011T182703Z
LAST-MODIFIED:20251020T004739Z
UID:10000583-1762012800-1762016400@torringtonhistoricalsociety.org
SUMMARY:Historic Center Cemetery Halloween Walking Tours
DESCRIPTION:The popular Historic Center Cemetery Halloween Walking Tour will take place on November 1 with time slots at 3:30\, 4\, 4:30 and 5:00 pm. \nCenter Cemetery is the only remaining burial ground in Downtown Torrington. Tour guides will lead groups through the cemetery by lantern with stops at various graves where actors will share the stories of early Torrington residents. Tours will start at the Torrington Historical Society (meet at the shed on the property near the cemetery gate to the left of the carriage house) and will return to the same spot. Please arrive 5 minutes ahead of time and later tours should bring a flashlight. Parking available behind the Historical Society or on the street. \nProceeds to benefit Torrington Historical Society educational programs. Please note this tour is most suitable for adults. Members $5\, Non Members $10. \nTo register: \nCenter Cemetery Tour \n \n 
URL:https://torringtonhistoricalsociety.org/event/historic-center-cemetery-halloween-walking-tours-2/2025-11-01/2
LOCATION:Torrington Historical Society\, 192 Main Street\, Torrington\, CT\, 06790
END:VEVENT
BEGIN:VEVENT
DTSTART;TZID=UTC:20251101T163000
DTEND;TZID=UTC:20251101T173000
DTSTAMP:20260421T233607
CREATED:20251011T182703Z
LAST-MODIFIED:20251020T004739Z
UID:10000584-1762014600-1762018200@torringtonhistoricalsociety.org
SUMMARY:Historic Center Cemetery Halloween Walking Tours
DESCRIPTION:The popular Historic Center Cemetery Halloween Walking Tour will take place on November 1 with time slots at 3:30\, 4\, 4:30 and 5:00 pm. \nCenter Cemetery is the only remaining burial ground in Downtown Torrington. Tour guides will lead groups through the cemetery by lantern with stops at various graves where actors will share the stories of early Torrington residents. Tours will start at the Torrington Historical Society (meet at the shed on the property near the cemetery gate to the left of the carriage house) and will return to the same spot. Please arrive 5 minutes ahead of time and later tours should bring a flashlight. Parking available behind the Historical Society or on the street. \nProceeds to benefit Torrington Historical Society educational programs. Please note this tour is most suitable for adults. Members $5\, Non Members $10. \nTo register: \nCenter Cemetery Tour \n \n 
URL:https://torringtonhistoricalsociety.org/event/historic-center-cemetery-halloween-walking-tours-2/2025-11-01/3
LOCATION:Torrington Historical Society\, 192 Main Street\, Torrington\, CT\, 06790
END:VEVENT
BEGIN:VEVENT
DTSTART;TZID=UTC:20251101T170000
DTEND;TZID=UTC:20251101T180000
DTSTAMP:20260421T233607
CREATED:20251011T182703Z
LAST-MODIFIED:20251020T004739Z
UID:10000585-1762016400-1762020000@torringtonhistoricalsociety.org
SUMMARY:Historic Center Cemetery Halloween Walking Tours
DESCRIPTION:The popular Historic Center Cemetery Halloween Walking Tour will take place on November 1 with time slots at 3:30\, 4\, 4:30 and 5:00 pm. \nCenter Cemetery is the only remaining burial ground in Downtown Torrington. Tour guides will lead groups through the cemetery by lantern with stops at various graves where actors will share the stories of early Torrington residents. Tours will start at the Torrington Historical Society (meet at the shed on the property near the cemetery gate to the left of the carriage house) and will return to the same spot. Please arrive 5 minutes ahead of time and later tours should bring a flashlight. Parking available behind the Historical Society or on the street. \nProceeds to benefit Torrington Historical Society educational programs. Please note this tour is most suitable for adults. Members $5\, Non Members $10. \nTo register: \nCenter Cemetery Tour \n \n 
URL:https://torringtonhistoricalsociety.org/event/historic-center-cemetery-halloween-walking-tours-2/2025-11-01/4
LOCATION:Torrington Historical Society\, 192 Main Street\, Torrington\, CT\, 06790
END:VEVENT
END:VCALENDAR