BEGIN:VCALENDAR
VERSION:2.0
PRODID:-//Torrington Historical Society - ECPv6.15.20//NONSGML v1.0//EN
CALSCALE:GREGORIAN
METHOD:PUBLISH
X-WR-CALNAME:Torrington Historical Society
X-ORIGINAL-URL:https://torringtonhistoricalsociety.org
X-WR-CALDESC:Events for Torrington Historical Society
REFRESH-INTERVAL;VALUE=DURATION:PT1H
X-Robots-Tag:noindex
X-PUBLISHED-TTL:PT1H
BEGIN:VTIMEZONE
TZID:UTC
BEGIN:STANDARD
TZOFFSETFROM:+0000
TZOFFSETTO:+0000
TZNAME:UTC
DTSTART:20240101T000000
END:STANDARD
END:VTIMEZONE
BEGIN:VEVENT
DTSTART;TZID=UTC:20251217T170000
DTEND;TZID=UTC:20251217T180000
DTSTAMP:20260421T172024
CREATED:20251020T003118Z
LAST-MODIFIED:20251020T003118Z
UID:10000578-1765990800-1765994400@torringtonhistoricalsociety.org
SUMMARY:Candlelight Holiday tours at the Hotchkiss-Fyler House Museum
DESCRIPTION:Candlelight Holiday tours at the Hotchkiss-Fyler House Museum\nTake a guided tour of one of Connecticut’s notable house museums\, decorated for the Christmas season. Operated by the Torrington Historical Society\, the Hotchkiss-Fyler House Museum\, built in 1900\, features original family furnishings\, impressive woodwork\, painted and stenciled walls\, and collections of fine and decorative arts. During the holiday season the house takes on a special ambiance when it is decorated with Christmas trees\, vintage ornaments\, wreaths\, greenery\, and white lights. Antique toys from the Society’s collection will also be on display and the dining room table will be set for Christmas dinner with linens\, fine china\, silverware and crystal from the Hotchkiss collection. Tours are for the first and second floors of the home. \nEvening Tour Admission:  \n$15 Non Members; $8 for Torrington Historical Society members and children 10 and under. \nRegister using the following link \nCandlelight Tours
URL:https://torringtonhistoricalsociety.org/event/candlelight-holiday-tours-at-the-hotchkiss-fyler-house-museum/2025-12-17/1
LOCATION:Torrington Historical Society\, 192 Main Street\, Torrington\, CT\, 06790
END:VEVENT
BEGIN:VEVENT
DTSTART;TZID=UTC:20251217T180000
DTEND;TZID=UTC:20251217T190000
DTSTAMP:20260421T172024
CREATED:20251020T003118Z
LAST-MODIFIED:20251020T003118Z
UID:10000579-1765994400-1765998000@torringtonhistoricalsociety.org
SUMMARY:Candlelight Holiday tours at the Hotchkiss-Fyler House Museum
DESCRIPTION:Candlelight Holiday tours at the Hotchkiss-Fyler House Museum\nTake a guided tour of one of Connecticut’s notable house museums\, decorated for the Christmas season. Operated by the Torrington Historical Society\, the Hotchkiss-Fyler House Museum\, built in 1900\, features original family furnishings\, impressive woodwork\, painted and stenciled walls\, and collections of fine and decorative arts. During the holiday season the house takes on a special ambiance when it is decorated with Christmas trees\, vintage ornaments\, wreaths\, greenery\, and white lights. Antique toys from the Society’s collection will also be on display and the dining room table will be set for Christmas dinner with linens\, fine china\, silverware and crystal from the Hotchkiss collection. Tours are for the first and second floors of the home. \nEvening Tour Admission:  \n$15 Non Members; $8 for Torrington Historical Society members and children 10 and under. \nRegister using the following link \nCandlelight Tours
URL:https://torringtonhistoricalsociety.org/event/candlelight-holiday-tours-at-the-hotchkiss-fyler-house-museum/2025-12-17/2
LOCATION:Torrington Historical Society\, 192 Main Street\, Torrington\, CT\, 06790
END:VEVENT
BEGIN:VEVENT
DTSTART;TZID=UTC:20251217T190000
DTEND;TZID=UTC:20251217T200000
DTSTAMP:20260421T172024
CREATED:20251020T003118Z
LAST-MODIFIED:20251020T003118Z
UID:10000580-1765998000-1766001600@torringtonhistoricalsociety.org
SUMMARY:Candlelight Holiday tours at the Hotchkiss-Fyler House Museum
DESCRIPTION:Candlelight Holiday tours at the Hotchkiss-Fyler House Museum\nTake a guided tour of one of Connecticut’s notable house museums\, decorated for the Christmas season. Operated by the Torrington Historical Society\, the Hotchkiss-Fyler House Museum\, built in 1900\, features original family furnishings\, impressive woodwork\, painted and stenciled walls\, and collections of fine and decorative arts. During the holiday season the house takes on a special ambiance when it is decorated with Christmas trees\, vintage ornaments\, wreaths\, greenery\, and white lights. Antique toys from the Society’s collection will also be on display and the dining room table will be set for Christmas dinner with linens\, fine china\, silverware and crystal from the Hotchkiss collection. Tours are for the first and second floors of the home. \nEvening Tour Admission:  \n$15 Non Members; $8 for Torrington Historical Society members and children 10 and under. \nRegister using the following link \nCandlelight Tours
URL:https://torringtonhistoricalsociety.org/event/candlelight-holiday-tours-at-the-hotchkiss-fyler-house-museum/2025-12-17/3
LOCATION:Torrington Historical Society\, 192 Main Street\, Torrington\, CT\, 06790
END:VEVENT
BEGIN:VEVENT
DTSTART;TZID=UTC:20251218T130000
DTEND;TZID=UTC:20251218T140000
DTSTAMP:20260421T172024
CREATED:20251020T003422Z
LAST-MODIFIED:20251110T234933Z
UID:10000545-1766062800-1766066400@torringtonhistoricalsociety.org
SUMMARY:Daytime Holiday Tours at the Hotchkiss-Fyler House Museum
DESCRIPTION:Daytime Holiday Tours at the Hotchkiss-Fyler House Museum\nTake a guided tour of one of Connecticut’s notable house museums\, decorated for the Christmas season. Operated by the Torrington Historical Society\, the Hotchkiss-Fyler House Museum\, built in 1900\, features original family furnishings\, impressive woodwork\, painted and stenciled walls\, and collections of fine and decorative arts. During the holiday season the house takes on a special ambiance when it is decorated with Christmas trees\, vintage ornaments\, wreaths\, greenery\, and white lights. Antique toys from the Society’s collection will also be on display and the dining room table will be set for Christmas dinner with linens\, fine china\, silverware and crystal from the Hotchkiss collection. Tours are for the first and second floors of the home. \nDay time Tours Admission:  \n$12 Non Members; $5 for Torrington Historical Society members and children 10 and under. \nTo Register please use the link below: \nDaytime Holiday Tours \n 
URL:https://torringtonhistoricalsociety.org/event/daytime-holiday-tours-at-the-hotchkiss-fyler-house-museum-2/2025-12-18/1
LOCATION:Torrington Historical Society\, 192 Main Street\, Torrington\, CT\, 06790
END:VEVENT
BEGIN:VEVENT
DTSTART;TZID=UTC:20251218T140000
DTEND;TZID=UTC:20251218T150000
DTSTAMP:20260421T172024
CREATED:20251020T003422Z
LAST-MODIFIED:20251110T234933Z
UID:10000546-1766066400-1766070000@torringtonhistoricalsociety.org
SUMMARY:Daytime Holiday Tours at the Hotchkiss-Fyler House Museum
DESCRIPTION:Daytime Holiday Tours at the Hotchkiss-Fyler House Museum\nTake a guided tour of one of Connecticut’s notable house museums\, decorated for the Christmas season. Operated by the Torrington Historical Society\, the Hotchkiss-Fyler House Museum\, built in 1900\, features original family furnishings\, impressive woodwork\, painted and stenciled walls\, and collections of fine and decorative arts. During the holiday season the house takes on a special ambiance when it is decorated with Christmas trees\, vintage ornaments\, wreaths\, greenery\, and white lights. Antique toys from the Society’s collection will also be on display and the dining room table will be set for Christmas dinner with linens\, fine china\, silverware and crystal from the Hotchkiss collection. Tours are for the first and second floors of the home. \nDay time Tours Admission:  \n$12 Non Members; $5 for Torrington Historical Society members and children 10 and under. \nTo Register please use the link below: \nDaytime Holiday Tours \n 
URL:https://torringtonhistoricalsociety.org/event/daytime-holiday-tours-at-the-hotchkiss-fyler-house-museum-2/2025-12-18/2
LOCATION:Torrington Historical Society\, 192 Main Street\, Torrington\, CT\, 06790
END:VEVENT
BEGIN:VEVENT
DTSTART;TZID=UTC:20251218T150000
DTEND;TZID=UTC:20251218T160000
DTSTAMP:20260421T172024
CREATED:20251020T003422Z
LAST-MODIFIED:20251110T234933Z
UID:10000547-1766070000-1766073600@torringtonhistoricalsociety.org
SUMMARY:Daytime Holiday Tours at the Hotchkiss-Fyler House Museum
DESCRIPTION:Daytime Holiday Tours at the Hotchkiss-Fyler House Museum\nTake a guided tour of one of Connecticut’s notable house museums\, decorated for the Christmas season. Operated by the Torrington Historical Society\, the Hotchkiss-Fyler House Museum\, built in 1900\, features original family furnishings\, impressive woodwork\, painted and stenciled walls\, and collections of fine and decorative arts. During the holiday season the house takes on a special ambiance when it is decorated with Christmas trees\, vintage ornaments\, wreaths\, greenery\, and white lights. Antique toys from the Society’s collection will also be on display and the dining room table will be set for Christmas dinner with linens\, fine china\, silverware and crystal from the Hotchkiss collection. Tours are for the first and second floors of the home. \nDay time Tours Admission:  \n$12 Non Members; $5 for Torrington Historical Society members and children 10 and under. \nTo Register please use the link below: \nDaytime Holiday Tours \n 
URL:https://torringtonhistoricalsociety.org/event/daytime-holiday-tours-at-the-hotchkiss-fyler-house-museum-2/2025-12-18/3
LOCATION:Torrington Historical Society\, 192 Main Street\, Torrington\, CT\, 06790
END:VEVENT
BEGIN:VEVENT
DTSTART;TZID=UTC:20251219T130000
DTEND;TZID=UTC:20251219T140000
DTSTAMP:20260421T172024
CREATED:20251020T003422Z
LAST-MODIFIED:20251110T234933Z
UID:10000548-1766149200-1766152800@torringtonhistoricalsociety.org
SUMMARY:Daytime Holiday Tours at the Hotchkiss-Fyler House Museum
DESCRIPTION:Daytime Holiday Tours at the Hotchkiss-Fyler House Museum\nTake a guided tour of one of Connecticut’s notable house museums\, decorated for the Christmas season. Operated by the Torrington Historical Society\, the Hotchkiss-Fyler House Museum\, built in 1900\, features original family furnishings\, impressive woodwork\, painted and stenciled walls\, and collections of fine and decorative arts. During the holiday season the house takes on a special ambiance when it is decorated with Christmas trees\, vintage ornaments\, wreaths\, greenery\, and white lights. Antique toys from the Society’s collection will also be on display and the dining room table will be set for Christmas dinner with linens\, fine china\, silverware and crystal from the Hotchkiss collection. Tours are for the first and second floors of the home. \nDay time Tours Admission:  \n$12 Non Members; $5 for Torrington Historical Society members and children 10 and under. \nTo Register please use the link below: \nDaytime Holiday Tours \n 
URL:https://torringtonhistoricalsociety.org/event/daytime-holiday-tours-at-the-hotchkiss-fyler-house-museum-2/2025-12-19/1
LOCATION:Torrington Historical Society\, 192 Main Street\, Torrington\, CT\, 06790
END:VEVENT
BEGIN:VEVENT
DTSTART;TZID=UTC:20251219T140000
DTEND;TZID=UTC:20251219T150000
DTSTAMP:20260421T172024
CREATED:20251020T003422Z
LAST-MODIFIED:20251110T234933Z
UID:10000549-1766152800-1766156400@torringtonhistoricalsociety.org
SUMMARY:Daytime Holiday Tours at the Hotchkiss-Fyler House Museum
DESCRIPTION:Daytime Holiday Tours at the Hotchkiss-Fyler House Museum\nTake a guided tour of one of Connecticut’s notable house museums\, decorated for the Christmas season. Operated by the Torrington Historical Society\, the Hotchkiss-Fyler House Museum\, built in 1900\, features original family furnishings\, impressive woodwork\, painted and stenciled walls\, and collections of fine and decorative arts. During the holiday season the house takes on a special ambiance when it is decorated with Christmas trees\, vintage ornaments\, wreaths\, greenery\, and white lights. Antique toys from the Society’s collection will also be on display and the dining room table will be set for Christmas dinner with linens\, fine china\, silverware and crystal from the Hotchkiss collection. Tours are for the first and second floors of the home. \nDay time Tours Admission:  \n$12 Non Members; $5 for Torrington Historical Society members and children 10 and under. \nTo Register please use the link below: \nDaytime Holiday Tours \n 
URL:https://torringtonhistoricalsociety.org/event/daytime-holiday-tours-at-the-hotchkiss-fyler-house-museum-2/2025-12-19/2
LOCATION:Torrington Historical Society\, 192 Main Street\, Torrington\, CT\, 06790
END:VEVENT
BEGIN:VEVENT
DTSTART;TZID=UTC:20251219T150000
DTEND;TZID=UTC:20251219T160000
DTSTAMP:20260421T172024
CREATED:20251020T003422Z
LAST-MODIFIED:20251110T234933Z
UID:10000550-1766156400-1766160000@torringtonhistoricalsociety.org
SUMMARY:Daytime Holiday Tours at the Hotchkiss-Fyler House Museum
DESCRIPTION:Daytime Holiday Tours at the Hotchkiss-Fyler House Museum\nTake a guided tour of one of Connecticut’s notable house museums\, decorated for the Christmas season. Operated by the Torrington Historical Society\, the Hotchkiss-Fyler House Museum\, built in 1900\, features original family furnishings\, impressive woodwork\, painted and stenciled walls\, and collections of fine and decorative arts. During the holiday season the house takes on a special ambiance when it is decorated with Christmas trees\, vintage ornaments\, wreaths\, greenery\, and white lights. Antique toys from the Society’s collection will also be on display and the dining room table will be set for Christmas dinner with linens\, fine china\, silverware and crystal from the Hotchkiss collection. Tours are for the first and second floors of the home. \nDay time Tours Admission:  \n$12 Non Members; $5 for Torrington Historical Society members and children 10 and under. \nTo Register please use the link below: \nDaytime Holiday Tours \n 
URL:https://torringtonhistoricalsociety.org/event/daytime-holiday-tours-at-the-hotchkiss-fyler-house-museum-2/2025-12-19/3
LOCATION:Torrington Historical Society\, 192 Main Street\, Torrington\, CT\, 06790
END:VEVENT
BEGIN:VEVENT
DTSTART;TZID=UTC:20251220T130000
DTEND;TZID=UTC:20251220T140000
DTSTAMP:20260421T172024
CREATED:20251020T003422Z
LAST-MODIFIED:20251110T234933Z
UID:10000551-1766235600-1766239200@torringtonhistoricalsociety.org
SUMMARY:Daytime Holiday Tours at the Hotchkiss-Fyler House Museum
DESCRIPTION:Daytime Holiday Tours at the Hotchkiss-Fyler House Museum\nTake a guided tour of one of Connecticut’s notable house museums\, decorated for the Christmas season. Operated by the Torrington Historical Society\, the Hotchkiss-Fyler House Museum\, built in 1900\, features original family furnishings\, impressive woodwork\, painted and stenciled walls\, and collections of fine and decorative arts. During the holiday season the house takes on a special ambiance when it is decorated with Christmas trees\, vintage ornaments\, wreaths\, greenery\, and white lights. Antique toys from the Society’s collection will also be on display and the dining room table will be set for Christmas dinner with linens\, fine china\, silverware and crystal from the Hotchkiss collection. Tours are for the first and second floors of the home. \nDay time Tours Admission:  \n$12 Non Members; $5 for Torrington Historical Society members and children 10 and under. \nTo Register please use the link below: \nDaytime Holiday Tours \n 
URL:https://torringtonhistoricalsociety.org/event/daytime-holiday-tours-at-the-hotchkiss-fyler-house-museum-2/2025-12-20/1
LOCATION:Torrington Historical Society\, 192 Main Street\, Torrington\, CT\, 06790
END:VEVENT
BEGIN:VEVENT
DTSTART;TZID=UTC:20251220T140000
DTEND;TZID=UTC:20251220T150000
DTSTAMP:20260421T172024
CREATED:20251020T003422Z
LAST-MODIFIED:20251110T234933Z
UID:10000552-1766239200-1766242800@torringtonhistoricalsociety.org
SUMMARY:Daytime Holiday Tours at the Hotchkiss-Fyler House Museum
DESCRIPTION:Daytime Holiday Tours at the Hotchkiss-Fyler House Museum\nTake a guided tour of one of Connecticut’s notable house museums\, decorated for the Christmas season. Operated by the Torrington Historical Society\, the Hotchkiss-Fyler House Museum\, built in 1900\, features original family furnishings\, impressive woodwork\, painted and stenciled walls\, and collections of fine and decorative arts. During the holiday season the house takes on a special ambiance when it is decorated with Christmas trees\, vintage ornaments\, wreaths\, greenery\, and white lights. Antique toys from the Society’s collection will also be on display and the dining room table will be set for Christmas dinner with linens\, fine china\, silverware and crystal from the Hotchkiss collection. Tours are for the first and second floors of the home. \nDay time Tours Admission:  \n$12 Non Members; $5 for Torrington Historical Society members and children 10 and under. \nTo Register please use the link below: \nDaytime Holiday Tours \n 
URL:https://torringtonhistoricalsociety.org/event/daytime-holiday-tours-at-the-hotchkiss-fyler-house-museum-2/2025-12-20/2
LOCATION:Torrington Historical Society\, 192 Main Street\, Torrington\, CT\, 06790
END:VEVENT
BEGIN:VEVENT
DTSTART;TZID=UTC:20251220T150000
DTEND;TZID=UTC:20251220T160000
DTSTAMP:20260421T172024
CREATED:20251020T003422Z
LAST-MODIFIED:20251110T234933Z
UID:10000553-1766242800-1766246400@torringtonhistoricalsociety.org
SUMMARY:Daytime Holiday Tours at the Hotchkiss-Fyler House Museum
DESCRIPTION:Daytime Holiday Tours at the Hotchkiss-Fyler House Museum\nTake a guided tour of one of Connecticut’s notable house museums\, decorated for the Christmas season. Operated by the Torrington Historical Society\, the Hotchkiss-Fyler House Museum\, built in 1900\, features original family furnishings\, impressive woodwork\, painted and stenciled walls\, and collections of fine and decorative arts. During the holiday season the house takes on a special ambiance when it is decorated with Christmas trees\, vintage ornaments\, wreaths\, greenery\, and white lights. Antique toys from the Society’s collection will also be on display and the dining room table will be set for Christmas dinner with linens\, fine china\, silverware and crystal from the Hotchkiss collection. Tours are for the first and second floors of the home. \nDay time Tours Admission:  \n$12 Non Members; $5 for Torrington Historical Society members and children 10 and under. \nTo Register please use the link below: \nDaytime Holiday Tours \n 
URL:https://torringtonhistoricalsociety.org/event/daytime-holiday-tours-at-the-hotchkiss-fyler-house-museum-2/2025-12-20/3
LOCATION:Torrington Historical Society\, 192 Main Street\, Torrington\, CT\, 06790
END:VEVENT
BEGIN:VEVENT
DTSTART;TZID=UTC:20251221T130000
DTEND;TZID=UTC:20251221T140000
DTSTAMP:20260421T172024
CREATED:20251020T003422Z
LAST-MODIFIED:20251110T234933Z
UID:10000554-1766322000-1766325600@torringtonhistoricalsociety.org
SUMMARY:Daytime Holiday Tours at the Hotchkiss-Fyler House Museum
DESCRIPTION:Daytime Holiday Tours at the Hotchkiss-Fyler House Museum\nTake a guided tour of one of Connecticut’s notable house museums\, decorated for the Christmas season. Operated by the Torrington Historical Society\, the Hotchkiss-Fyler House Museum\, built in 1900\, features original family furnishings\, impressive woodwork\, painted and stenciled walls\, and collections of fine and decorative arts. During the holiday season the house takes on a special ambiance when it is decorated with Christmas trees\, vintage ornaments\, wreaths\, greenery\, and white lights. Antique toys from the Society’s collection will also be on display and the dining room table will be set for Christmas dinner with linens\, fine china\, silverware and crystal from the Hotchkiss collection. Tours are for the first and second floors of the home. \nDay time Tours Admission:  \n$12 Non Members; $5 for Torrington Historical Society members and children 10 and under. \nTo Register please use the link below: \nDaytime Holiday Tours \n 
URL:https://torringtonhistoricalsociety.org/event/daytime-holiday-tours-at-the-hotchkiss-fyler-house-museum-2/2025-12-21/1
LOCATION:Torrington Historical Society\, 192 Main Street\, Torrington\, CT\, 06790
END:VEVENT
BEGIN:VEVENT
DTSTART;TZID=UTC:20251221T140000
DTEND;TZID=UTC:20251221T150000
DTSTAMP:20260421T172024
CREATED:20251020T003422Z
LAST-MODIFIED:20251110T234933Z
UID:10000555-1766325600-1766329200@torringtonhistoricalsociety.org
SUMMARY:Daytime Holiday Tours at the Hotchkiss-Fyler House Museum
DESCRIPTION:Daytime Holiday Tours at the Hotchkiss-Fyler House Museum\nTake a guided tour of one of Connecticut’s notable house museums\, decorated for the Christmas season. Operated by the Torrington Historical Society\, the Hotchkiss-Fyler House Museum\, built in 1900\, features original family furnishings\, impressive woodwork\, painted and stenciled walls\, and collections of fine and decorative arts. During the holiday season the house takes on a special ambiance when it is decorated with Christmas trees\, vintage ornaments\, wreaths\, greenery\, and white lights. Antique toys from the Society’s collection will also be on display and the dining room table will be set for Christmas dinner with linens\, fine china\, silverware and crystal from the Hotchkiss collection. Tours are for the first and second floors of the home. \nDay time Tours Admission:  \n$12 Non Members; $5 for Torrington Historical Society members and children 10 and under. \nTo Register please use the link below: \nDaytime Holiday Tours \n 
URL:https://torringtonhistoricalsociety.org/event/daytime-holiday-tours-at-the-hotchkiss-fyler-house-museum-2/2025-12-21/2
LOCATION:Torrington Historical Society\, 192 Main Street\, Torrington\, CT\, 06790
END:VEVENT
BEGIN:VEVENT
DTSTART;TZID=UTC:20251221T150000
DTEND;TZID=UTC:20251221T160000
DTSTAMP:20260421T172024
CREATED:20251020T003422Z
LAST-MODIFIED:20251110T234933Z
UID:10000556-1766329200-1766332800@torringtonhistoricalsociety.org
SUMMARY:Daytime Holiday Tours at the Hotchkiss-Fyler House Museum
DESCRIPTION:Daytime Holiday Tours at the Hotchkiss-Fyler House Museum\nTake a guided tour of one of Connecticut’s notable house museums\, decorated for the Christmas season. Operated by the Torrington Historical Society\, the Hotchkiss-Fyler House Museum\, built in 1900\, features original family furnishings\, impressive woodwork\, painted and stenciled walls\, and collections of fine and decorative arts. During the holiday season the house takes on a special ambiance when it is decorated with Christmas trees\, vintage ornaments\, wreaths\, greenery\, and white lights. Antique toys from the Society’s collection will also be on display and the dining room table will be set for Christmas dinner with linens\, fine china\, silverware and crystal from the Hotchkiss collection. Tours are for the first and second floors of the home. \nDay time Tours Admission:  \n$12 Non Members; $5 for Torrington Historical Society members and children 10 and under. \nTo Register please use the link below: \nDaytime Holiday Tours \n 
URL:https://torringtonhistoricalsociety.org/event/daytime-holiday-tours-at-the-hotchkiss-fyler-house-museum-2/2025-12-21/3
LOCATION:Torrington Historical Society\, 192 Main Street\, Torrington\, CT\, 06790
END:VEVENT
END:VCALENDAR