BEGIN:VCALENDAR
VERSION:2.0
PRODID:-//Torrington Historical Society - ECPv6.15.20//NONSGML v1.0//EN
CALSCALE:GREGORIAN
METHOD:PUBLISH
X-ORIGINAL-URL:https://torringtonhistoricalsociety.org
X-WR-CALDESC:Events for Torrington Historical Society
REFRESH-INTERVAL;VALUE=DURATION:PT1H
X-Robots-Tag:noindex
X-PUBLISHED-TTL:PT1H
BEGIN:VTIMEZONE
TZID:UTC
BEGIN:STANDARD
TZOFFSETFROM:+0000
TZOFFSETTO:+0000
TZNAME:UTC
DTSTART:20250101T000000
END:STANDARD
END:VTIMEZONE
BEGIN:VEVENT
DTSTART;TZID=UTC:20260217T183000
DTEND;TZID=UTC:20260217T193000
DTSTAMP:20260421T170249
CREATED:20260203T143833Z
LAST-MODIFIED:20260204T160852Z
UID:10000588-1771353000-1771356600@torringtonhistoricalsociety.org
SUMMARY:Insights into Black History and Culture - Celebrate Black History Month with Dr. DeLois Lindsey and Effie and Angaza Mwando of Our Culture is Beautiful
DESCRIPTION:Torrington Historical Society is pleased to partner with Our Culture is Beautiful for a program celebrating Black History and culture.
URL:https://torringtonhistoricalsociety.org/event/insights-into-black-history-and-culture-celebrate-black-history-month
LOCATION:Torrington Historical Society\, 192 Main Street\, Torrington\, CT\, 06790
END:VEVENT
END:VCALENDAR