BEGIN:VCALENDAR
VERSION:2.0
PRODID:-//Torrington Historical Society - ECPv6.15.20//NONSGML v1.0//EN
CALSCALE:GREGORIAN
METHOD:PUBLISH
X-WR-CALNAME:Torrington Historical Society
X-ORIGINAL-URL:https://torringtonhistoricalsociety.org
X-WR-CALDESC:Events for Torrington Historical Society
REFRESH-INTERVAL;VALUE=DURATION:PT1H
X-Robots-Tag:noindex
X-PUBLISHED-TTL:PT1H
BEGIN:VTIMEZONE
TZID:UTC
BEGIN:STANDARD
TZOFFSETFROM:+0000
TZOFFSETTO:+0000
TZNAME:UTC
DTSTART:20250101T000000
END:STANDARD
END:VTIMEZONE
BEGIN:VEVENT
DTSTART;TZID=UTC:20260312T183000
DTEND;TZID=UTC:20260312T193000
DTSTAMP:20260422T004130
CREATED:20260204T160353Z
LAST-MODIFIED:20260204T160353Z
UID:10000590-1773340200-1773343800@torringtonhistoricalsociety.org
SUMMARY:Liberty's Gender\, Women\, Popular Culture & The American Revolution with Professor Leslie Lindenauer\, WCSU
DESCRIPTION:Presented by Professor Leslie Lindenauer\, WCSU \nDetails and link to program coming soon!
URL:https://torringtonhistoricalsociety.org/event/libertys-gender-women-popular-culture-the-american-revolution-with-professor-leslie-lindenauer-wcsu
LOCATION:Torrington Historical Society\, 192 Main Street\, Torrington\, CT\, 06790
END:VEVENT
END:VCALENDAR